BEGIN:VCALENDAR
VERSION:2.0
PRODID:-//eventon.com NONSGML v1.0//EN
BEGIN:VEVENT
UID:69e73877d8684
DTSTAMP:20260421T104231
DTSTART:20241109T220000Z
DTEND:20241109T225000Z
TZID:Europe/Paris
LOCATION:Markthalle Klosterwall 11\,  20095 Hamburg
SUMMARY:Return of the living dead Party
DESCRIPTION: \nhttps://dance40plus.de/events/return-of-the-living-dead-party-3-2
URL:https://dance40plus.de/events/return-of-the-living-dead-party-3-2
END:VEVENT
END:VCALENDAR